BEGIN:VCALENDAR
VERSION:2.0
PRODID:spatie/icalendar-generator
DESCRIPTION:金剛禅総本山少林寺 東京旗の台道院のイベン
 ト
X-WR-CALDESC:金剛禅総本山少林寺 東京旗の台道院のイベン
 ト
REFRESH-INTERVAL;VALUE=DURATION:PT1440M
X-PUBLISHED-TTL:PT1440M
BEGIN:VTIMEZONE
TZID:Asia/Tokyo
BEGIN:STANDARD
DTSTART:20230822T100000Z
TZOFFSETFROM:+0900
TZOFFSETTO:+0900
END:STANDARD
END:VTIMEZONE
BEGIN:VTIMEZONE
TZID:UTC
BEGIN:STANDARD
DTSTART:20250725T104551Z
TZOFFSETFROM:+0000
TZOFFSETTO:+0000
END:STANDARD
END:VTIMEZONE
BEGIN:VEVENT
UID:130-7
DTSTAMP:20260421T104551Z
SUMMARY:修練日
LOCATION:
ORGANIZER;CN=admin:MAILTO:carna.style.inc@gmail.com
DTSTART;TZID=Asia/Tokyo:20240518T100000
DTEND;TZID=Asia/Tokyo:20240518T120000
X-ALT-DESC;FMTTYPE=TEXT/HTML:
CATEGORIES:General
URL;VALUE=URI:https://syorinji-hatanodai.com/mc-events/%e4%bf%ae%e7%b7%b4%e
 6%97%a5-2/
METHOD:PUBLISH
END:VEVENT
END:VCALENDAR